0.1
0
0
-0.1
603851.849311602
4742546.46872851
