0.1
0
0
-0.1
605572.539988257
4741415.89249453
