0.1
0
0
-0.1
654822.770894537
4748715.03893585
