0.1
0
0
-0.1
607239.564608046
4743755.59531881
