0.1
0
0
-0.1
606406.197137507
4742585.63847862
