0.1
0
0
-0.1
606415.165452802
4742007.29600692
