0.1
0
0
-0.1
607257.647121251
4742598.90452916
