0.1
0
0
-0.1
611543.089099172
4740931.88213667
