0.1
0
0
-0.1
613255.960576895
4740381.33491661
