0.1
0
0
-0.1
610710.064253649
4739761.30380056
