0.1
0
0
-0.1
596073.453266402
4689217.85659248
