0.1
0
0
-0.1
596931.453944611
4689229.62889755
