0.1
0
0
-0.1
597789.45562267
4689241.61220112
