0.1
0
0
-0.1
598647.459920048
4689253.80639858
