0.1
0
0
-0.1
599505.464526822
4689266.00219942
