0.1
0
0
-0.1
597797.564929964
4688663.32476773
