0.1
0
0
-0.1
598663.820039101
4688097.2304076
