0.1
0
0
-0.1
604662.202243729
4688762.97365226
