0.1
0
0
-0.1
597813.781251289
4687506.74814868
