0.1
0
0
-0.1
598680.173953371
4686940.65275188
