0.1
0
0
-0.1
655851.104754643
4703025.95544162
