0.1
0
0
-0.1
595586.045221888
4724494.39404452
