0.1
0
0
-0.1
596439.714137507
4724506.18558403
