0.1
0
0
-0.1
597293.383554431
4724518.19212353
