0.1
0
0
-0.1
586649.753912867
4687937.37168578
