0.1
0
0
-0.1
587500.649458354
4688526.38865583
