0.1
0
0
-0.1
586671.302018366
4686202.51476801
