0.1
0
0
-0.1
640200.39797577
4714264.53502726
