0.1
0
0
-0.1
641886.856056729
4715455.97767188
