0.1
0
0
-0.1
641898.697647226
4714877.629317
