0.1
0
0
-0.1
560692.568877489
4711953.11570527
