0.1
0
0
-0.1
619190.254687835
4692466.90149901
