0.1
0
0
-0.1
654050.017312495
4745225.93232884
