0.1
0
0
-0.1
655752.471648248
4745264.48771827
