0.1
0
0
-0.1
655765.620248712
4744686.16731194
