0.1
0
0
-0.1
578003.545288087
4693618.75206855
