0.1
0
0
-0.1
577158.930328022
4692452.49293386
