0.1
0
0
-0.1
574474.556189314
4702833.71792889
