0.1
0
0
-0.1
564048.903741298
4718923.63506241
