0.1
0
0
-0.1
564908.667424446
4718353.26344983
