0.1
0
0
-0.1
606649.309660321
4781349.97903336
