0.1
0
0
-0.1
608370.443174358
4779641.76418172
