0.1
0
0
-0.1
607762.51151594
4710212.42501319
