0.1
0
0
-0.1
608590.779077254
4711960.85380492
