0.1
0
0
-0.1
606898.137976222
4710777.48808952
