0.1
0
0
-0.1
609473.419491619
4710239.35746741
