0.1
0
0
-0.1
607771.50187176
4709634.10439402
