0.1
0
0
-0.1
607780.492228378
4709055.78427268
