0.1
0
0
-0.1
606933.811833588
4708464.21157715
