0.1
0
0
-0.1
607789.480085834
4708477.4671492
